BEGIN:VCALENDAR
VERSION:2.0
PRODID:-//Présentation de Marie - ECPv4.6.2//NONSGML v1.0//EN
CALSCALE:GREGORIAN
METHOD:PUBLISH
X-WR-CALNAME:Présentation de Marie
X-ORIGINAL-URL:http://presentationdemarie.org
X-WR-CALDESC:Events for Présentation de Marie
BEGIN:VEVENT
DTSTART;TZID=Europe/Paris:20180917T080000
DTEND;TZID=Europe/Paris:20180918T120000
DTSTAMP:20260424T055004
CREATED:20180913T223610Z
LAST-MODIFIED:20180913T223610Z
UID:3369-1537171200-1537272000@presentationdemarie.org
SUMMARY:Visite de la Maison Mère
DESCRIPTION:Les élèves de 2nde de l’Ensemble Scolaire Marie Rivier de Bourg Saint Andéol seront accueillis en cette année particulière de la préparation à la fête du Bicentenaire de leur école. \n
URL:http://presentationdemarie.org/evenement/visite-de-maison-mere
END:VEVENT
END:VCALENDAR