BEGIN:VCALENDAR
VERSION:2.0
PRODID:-//Présentation de Marie - ECPv4.6.2//NONSGML v1.0//EN
CALSCALE:GREGORIAN
METHOD:PUBLISH
X-WR-CALNAME:Présentation de Marie
X-ORIGINAL-URL:http://presentationdemarie.org
X-WR-CALDESC:Events for Présentation de Marie
BEGIN:VEVENT
DTSTART;TZID=Europe/Paris:20181001T093000
DTEND;TZID=Europe/Paris:20181001T150000
DTSTAMP:20260423T153210
CREATED:20180913T225034Z
LAST-MODIFIED:20180913T225034Z
UID:3390-1538386200-1538406000@presentationdemarie.org
SUMMARY:Visite de la Maison Mère
DESCRIPTION:Accueil des élèves de 6èmes du Collège Marie Rivier de Sorgues \n
URL:http://presentationdemarie.org/evenement/visite-de-maison-mere-8
END:VEVENT
END:VCALENDAR