BEGIN:VCALENDAR
VERSION:2.0
PRODID:-//Présentation de Marie - ECPv4.6.2//NONSGML v1.0//EN
CALSCALE:GREGORIAN
METHOD:PUBLISH
X-WR-CALNAME:Présentation de Marie
X-ORIGINAL-URL:http://presentationdemarie.org
X-WR-CALDESC:Events for Présentation de Marie
BEGIN:VEVENT
DTSTART;TZID=Europe/Paris:20181129T120000
DTEND;TZID=Europe/Paris:20181130T153000
DTSTAMP:20260422T143716
CREATED:20181125T202748Z
LAST-MODIFIED:20181125T202748Z
UID:3892-1543492800-1543591800@presentationdemarie.org
SUMMARY:Visite de la Maison Mère\, 6èmes de St Julien en Genevois
DESCRIPTION:Comme chaque année\, nous accueillons les élèves de la Présentation de St Julien en Genevois\, pour un temps de découverte de la vie de Marie Rivier et de rencontre avec les soeurs. \n
URL:http://presentationdemarie.org/evenement/visite-de-maison-mere-6emes-de-st-julien-genevois
LOCATION:38 avenue Notre Dame\, Bourg Saint Andéol\, Maison mère\, 07700\, France
CATEGORIES:Animation
END:VEVENT
END:VCALENDAR