BEGIN:VCALENDAR
VERSION:2.0
PRODID:-//Présentation de Marie - ECPv4.6.2//NONSGML v1.0//EN
CALSCALE:GREGORIAN
METHOD:PUBLISH
X-WR-CALNAME:Présentation de Marie
X-ORIGINAL-URL:http://presentationdemarie.org
X-WR-CALDESC:Events for Présentation de Marie
BEGIN:VEVENT
DTSTART;TZID=Europe/Paris:20180925T093000
DTEND;TZID=Europe/Paris:20180925T153000
DTSTAMP:20260423T215319
CREATED:20180913T224307Z
LAST-MODIFIED:20180913T224307Z
UID:3380-1537867800-1537889400@presentationdemarie.org
SUMMARY:Visite de la Maison Mère
DESCRIPTION:Accueil des élèves de 6èmes du Collège St Louis d’Orange. \n
URL:http://presentationdemarie.org/evenement/visite-de-maison-mere-5
END:VEVENT
END:VCALENDAR