BEGIN:VCALENDAR
VERSION:2.0
PRODID:-//Présentation de Marie - ECPv4.6.2//NONSGML v1.0//EN
CALSCALE:GREGORIAN
METHOD:PUBLISH
X-WR-CALNAME:Présentation de Marie
X-ORIGINAL-URL:http://presentationdemarie.org
X-WR-CALDESC:Events for Présentation de Marie
BEGIN:VEVENT
DTSTART;TZID=Europe/Paris:20181005T080000
DTEND;TZID=Europe/Paris:20181005T120000
DTSTAMP:20260423T075507
CREATED:20180913T225626Z
LAST-MODIFIED:20180913T225626Z
UID:3400-1538726400-1538740800@presentationdemarie.org
SUMMARY:Visite de la Maison Mère
DESCRIPTION:Accueil des élèves de 6èmes de l’Ensemble Scolaire Marie Rivier de Bourg Saint Andéol. \n
URL:http://presentationdemarie.org/evenement/visite-de-maison-mere-11
END:VEVENT
END:VCALENDAR