BEGIN:VCALENDAR
VERSION:2.0
PRODID:-//Présentation de Marie - ECPv4.6.2//NONSGML v1.0//EN
CALSCALE:GREGORIAN
METHOD:PUBLISH
X-WR-CALNAME:Présentation de Marie
X-ORIGINAL-URL:http://presentationdemarie.org
X-WR-CALDESC:Events for Présentation de Marie
BEGIN:VEVENT
DTSTART;TZID=Europe/Paris:20190130T090000
DTEND;TZID=Europe/Paris:20190201T170000
DTSTAMP:20260421T150330
CREATED:20181125T205803Z
LAST-MODIFIED:20181125T205803Z
UID:3911-1548838800-1549040400@presentationdemarie.org
SUMMARY:Triduum - Retraite à la Maison Mère
DESCRIPTION:
URL:http://presentationdemarie.org/evenement/triduum-retraite-a-maison-mere
LOCATION:38 avenue Notre Dame\, Bourg Saint Andéol\, Maison mère\, 07700\, France
CATEGORIES:Animation
END:VEVENT
END:VCALENDAR