BEGIN:VCALENDAR
VERSION:2.0
PRODID:-//Présentation de Marie - ECPv4.6.2//NONSGML v1.0//EN
CALSCALE:GREGORIAN
METHOD:PUBLISH
X-WR-CALNAME:Présentation de Marie
X-ORIGINAL-URL:http://presentationdemarie.org
X-WR-CALDESC:Events for Présentation de Marie
BEGIN:VEVENT
DTSTART;VALUE=DATE:20180117
DTEND;VALUE=DATE:20180120
DTSTAMP:20260425T190228
CREATED:20170803T142129Z
LAST-MODIFIED:20170803T142129Z
UID:638-1516147200-1516406399@presentationdemarie.org
SUMMARY:La transversalité de la pastorale dans nos établissements\, 2ème session\, 3année.
DESCRIPTION:
URL:http://presentationdemarie.org/evenement/transversalite-de-pastorale-nos-etablissements-2eme-session-3annee
LOCATION:101 avenue Victor Hugo\, Valence\, 26000\, France
CATEGORIES:Formation
END:VEVENT
END:VCALENDAR