BEGIN:VCALENDAR
VERSION:2.0
PRODID:-//Présentation de Marie - ECPv4.6.2//NONSGML v1.0//EN
CALSCALE:GREGORIAN
METHOD:PUBLISH
X-WR-CALNAME:Présentation de Marie
X-ORIGINAL-URL:http://presentationdemarie.org
X-WR-CALDESC:Events for Présentation de Marie
BEGIN:VEVENT
DTSTART;TZID=Europe/Paris:20181003T090000
DTEND;TZID=Europe/Paris:20181003T163000
DTSTAMP:20260423T122533
CREATED:20180913T225436Z
LAST-MODIFIED:20180913T225436Z
UID:3396-1538557200-1538584200@presentationdemarie.org
SUMMARY:Réunion de l'équipe de pilotage du Colloque
DESCRIPTION:Tous ceux qui peuvent se libérer de l’équipe de pilotage sont attendus par Marie Chantal. \n
URL:http://presentationdemarie.org/evenement/reunion-de-lequipe-de-pilotage-colloque
END:VEVENT
END:VCALENDAR