BEGIN:VCALENDAR
VERSION:2.0
PRODID:-//Présentation de Marie - ECPv4.6.2//NONSGML v1.0//EN
CALSCALE:GREGORIAN
METHOD:PUBLISH
X-WR-CALNAME:Présentation de Marie
X-ORIGINAL-URL:http://presentationdemarie.org
X-WR-CALDESC:Events for Présentation de Marie
BEGIN:VEVENT
DTSTART;VALUE=DATE:20171124
DTEND;VALUE=DATE:20171125
DTSTAMP:20260425T233800
CREATED:20170803T141626Z
LAST-MODIFIED:20170803T141626Z
UID:630-1511481600-1511567999@presentationdemarie.org
SUMMARY:Rencontre des délégués de 3ème et 2ndes
DESCRIPTION:Une journée d’échanges de pratiques et la prise en compte des intelligences multiples\, dans la réalisation d’un projet commun et d’une écoute de chacun. \n
URL:http://presentationdemarie.org/evenement/rencontre-delegues-de-3eme-2ndes
LOCATION:38 avenue Notre Dame\, Bourg Saint Andéol\, Maison mère\, 07700\, France
CATEGORIES:Animation
END:VEVENT
END:VCALENDAR