BEGIN:VCALENDAR
VERSION:2.0
PRODID:-//Présentation de Marie - ECPv4.6.2//NONSGML v1.0//EN
CALSCALE:GREGORIAN
METHOD:PUBLISH
X-WR-CALNAME:Présentation de Marie
X-ORIGINAL-URL:http://presentationdemarie.org
X-WR-CALDESC:Events for Présentation de Marie
BEGIN:VEVENT
DTSTART;TZID=Europe/Paris:20180612T093000
DTEND;TZID=Europe/Paris:20180612T170000
DTSTAMP:20260424T141147
CREATED:20180611T195425Z
LAST-MODIFIED:20180611T195425Z
UID:2986-1528795800-1528822800@presentationdemarie.org
SUMMARY:Rencontre conviviale à Lablachère des fraternités
DESCRIPTION:C’est aux pieds de Notre Dame de Bon Secours que 40 membres des fraternités Marie Rivier venus de Bourg Saint Andéol\, d’Alès\, de Montpezat et Thueyts se retrouveront pour une rencontre de fin d’année. \n
URL:http://presentationdemarie.org/evenement/rencontre-conviviale-a-lablachere-fraternites
CATEGORIES:Fraternité
END:VEVENT
END:VCALENDAR