BEGIN:VCALENDAR
VERSION:2.0
PRODID:-//Présentation de Marie - ECPv4.6.2//NONSGML v1.0//EN
CALSCALE:GREGORIAN
METHOD:PUBLISH
X-WR-CALNAME:Présentation de Marie
X-ORIGINAL-URL:http://presentationdemarie.org
X-WR-CALDESC:Events for Présentation de Marie
BEGIN:VEVENT
DTSTART;TZID=Europe/Paris:20180604T100000
DTEND;TZID=Europe/Paris:20180605T170000
DTSTAMP:20260424T170926
CREATED:20180422T094223Z
LAST-MODIFIED:20180422T094223Z
UID:2655-1528106400-1528218000@presentationdemarie.org
SUMMARY:Rencontre Bilan et reprise spirituelle pour les APS du réseau de la Présentation de Marie
DESCRIPTION:Cette année\, nous proposons aux APS de découvrir un espace de Paix et de Convivialité dans l’esprit Taizé; un village de prière où l’esprit d’une communion avec la nature et entre les personnes est privilégié\, l’essentiel à découvrir\, redécouvrir… Nous serons accueillis en ce lieu pour favoriser un temps de relecture à la Lumière de l’Evangile et dans la joie simple d’être ensemble. Nous découvrirons aussi quel est la mission de ce lieu qui accueille des groupes de jeunes\, tout au long de l’année. Un courrier sera envoyé aux CE et aux APS. \n
URL:http://presentationdemarie.org/evenement/rencontre-bilan-reprise-spirituelle-aps-reseau-de-presentation-de-marie
CATEGORIES:Animation
END:VEVENT
END:VCALENDAR