BEGIN:VCALENDAR
VERSION:2.0
PRODID:-//Présentation de Marie - ECPv4.6.2//NONSGML v1.0//EN
CALSCALE:GREGORIAN
METHOD:PUBLISH
X-WR-CALNAME:Présentation de Marie
X-ORIGINAL-URL:http://presentationdemarie.org
X-WR-CALDESC:Events for Présentation de Marie
BEGIN:VEVENT
DTSTART;TZID=Europe/Paris:20180621T093000
DTEND;TZID=Europe/Paris:20180621T153000
DTSTAMP:20260424T105635
CREATED:20180611T195027Z
LAST-MODIFIED:20180611T195027Z
UID:2983-1529573400-1529595000@presentationdemarie.org
SUMMARY:Rencontre autour de l'écriture du conte à plusieurs mains
DESCRIPTION:Les élèves de l’école La Présentation de Chomérac viendront ce jeudi 21 juin à Bourg Saint Andéol pour visiter la maison mère\, le matin et rencontrer les résidentes de l’EHPAD\, l’après midi. Une rencontre autour du conte de Paco. Ce conte a été écrit par l’école Marie Rivier de Concouron\, l’EHPAD Ste Marie aidé de Cassandre\, lycéenne de l’ensemble scolaire Marie Rivier de Bourg Saint Andéol et par l’école La Présentation de Chomérac. Une belle aventure illustrée par des panneaux ! \n
URL:http://presentationdemarie.org/evenement/rencontre-autour-de-lecriture-conte-a-plusieurs-mains
LOCATION:38 avenue Notre Dame\, Bourg Saint Andéol\, Maison mère\, 07700\, France
CATEGORIES:Animation
END:VEVENT
END:VCALENDAR