BEGIN:VCALENDAR
VERSION:2.0
PRODID:-//Présentation de Marie - ECPv4.6.2//NONSGML v1.0//EN
CALSCALE:GREGORIAN
METHOD:PUBLISH
X-WR-CALNAME:Présentation de Marie
X-ORIGINAL-URL:http://presentationdemarie.org
X-WR-CALDESC:Events for Présentation de Marie
BEGIN:VEVENT
DTSTART;TZID=Europe/Paris:20190123T090000
DTEND;TZID=Europe/Paris:20190124T163000
DTSTAMP:20260422T013535
CREATED:20181125T203858Z
LAST-MODIFIED:20181125T203858Z
UID:3900-1548234000-1548347400@presentationdemarie.org
SUMMARY:Rencontre des APS du Réseau
DESCRIPTION:La rencontre a lieu sur deux jours. Le premier jour est réservé pour les APS du réseau uniquement et le 2ème jour\, nous aurons une formation avec Marie Chantal Daniel sur l’EARS\, ouverte à tous les autres membres de la communauté éducative du réseau. \n
URL:http://presentationdemarie.org/evenement/rencontre-aps-reseau
CATEGORIES:Animation
END:VEVENT
END:VCALENDAR