BEGIN:VCALENDAR
VERSION:2.0
PRODID:-//Présentation de Marie - ECPv4.6.2//NONSGML v1.0//EN
CALSCALE:GREGORIAN
METHOD:PUBLISH
X-WR-CALNAME:Présentation de Marie
X-ORIGINAL-URL:http://presentationdemarie.org
X-WR-CALDESC:Events for Présentation de Marie
BEGIN:VEVENT
DTSTART;VALUE=DATE:20180207
DTEND;VALUE=DATE:20180209
DTSTAMP:20260425T141517
CREATED:20180201T054731Z
LAST-MODIFIED:20180201T055053Z
UID:2090-1517961600-1518134399@presentationdemarie.org
SUMMARY:Rencontre des APS du réseau et formation
DESCRIPTION:Du 7 février au 8 février 2018\, deux jours pour se ressourcer… à Bourg Saint Andéol. \nUn temps de mutualisation\, d’échanges et de formation est organisé pour les APS du réseau de la Présentation de Marie. Nous serons heureux d’accueillir les APS de la DDEC de Viviers ainsi que ceux du réseau AGI\, le mercredi après midi\, pour la rencontre avec Patrice Meinard de Médiaclap et le jeudi 8 février\, pour une journée de formation biblique sur l’accompagnement… \n
URL:http://presentationdemarie.org/evenement/rencontre-aps-reseau-formation
LOCATION:38 avenue Notre Dame\, Bourg Saint Andéol\, Maison mère\, 07700\, France
CATEGORIES:Animation
END:VEVENT
END:VCALENDAR