BEGIN:VCALENDAR
VERSION:2.0
PRODID:-//Présentation de Marie - ECPv4.6.2//NONSGML v1.0//EN
CALSCALE:GREGORIAN
METHOD:PUBLISH
X-WR-CALNAME:Présentation de Marie
X-ORIGINAL-URL:http://presentationdemarie.org
X-WR-CALDESC:Events for Présentation de Marie
BEGIN:VEVENT
DTSTART;VALUE=DATE:20171202
DTEND;VALUE=DATE:20171203
DTSTAMP:20260425T215807
CREATED:20170803T141728Z
LAST-MODIFIED:20171103T215202Z
UID:633-1512172800-1512259199@presentationdemarie.org
SUMMARY:Récollection pour tous les membres du réseau de la Présentation de Marie ( sœurs\, membres des frats\, collaborateurs dans les œuvres et les amis …)
DESCRIPTION:Une journée pour Dieu\, pour soi … une journée à l’écoute de la Parole avec Marie pour mieux entrer en ce temps de l’Avent et accueillir la Parole : Jésus Christ.\nIntervenant : Père Pierre Lombard ( prêtre du diocèse de Nîmes)\nFeuille d’inscription ICI \nà renvoyer à Sr Catherine p.m : srcathypm@presentationdemarie.org \n
URL:http://presentationdemarie.org/evenement/recollection-membres-reseau-de-presentation-de-marie-soeurs-membres-frats-collaborateurs-oeuvres-amis
LOCATION:38 avenue Notre Dame\, Bourg Saint Andéol\, Maison mère\, 07700\, France
CATEGORIES:Animation
END:VEVENT
END:VCALENDAR