BEGIN:VCALENDAR
VERSION:2.0
PRODID:-//Présentation de Marie - ECPv4.6.2//NONSGML v1.0//EN
CALSCALE:GREGORIAN
METHOD:PUBLISH
X-WR-CALNAME:Présentation de Marie
X-ORIGINAL-URL:http://presentationdemarie.org
X-WR-CALDESC:Events for Présentation de Marie
BEGIN:VEVENT
DTSTART;TZID=Europe/Paris:20181201T093000
DTEND;TZID=Europe/Paris:20181201T160000
DTSTAMP:20260422T125955
CREATED:20181011T071908Z
LAST-MODIFIED:20181011T071908Z
UID:3593-1543656600-1543680000@presentationdemarie.org
SUMMARY:Récollection pour tous les membres de la famille spirituelle de la Présentation de Marie
DESCRIPTION:Ce temps fort de la Province a lieu depuis plusieurs année\,  le 1er samedi de l’Avent. Nous sommes heureux de pouvoir commencer ensemble la nouvelle année liturgique\, à l’écoute de la Parole de Dieu… Une manière autre pour se préparer à la fête de Noël ! \nCette année\, nous serons accompagnés par Mme Hélène de St Aubert et nous ferons cette belle expérience de goûter au silence habité pendant la journée. \nInscription à faire auprès de Sr Catherine p.m. \nNous demandons une participation de 10 euros pour le repas et l’animation\, si possible. \n
URL:http://presentationdemarie.org/evenement/recollection-membres-de-famille-spirituelle-de-presentation-de-marie
LOCATION:38 avenue Notre Dame\, Bourg Saint Andéol\, Maison mère\, 07700\, France
CATEGORIES:Animation
END:VEVENT
END:VCALENDAR