BEGIN:VCALENDAR
VERSION:2.0
PRODID:-//Présentation de Marie - ECPv4.6.2//NONSGML v1.0//EN
CALSCALE:GREGORIAN
METHOD:PUBLISH
X-WR-CALNAME:Présentation de Marie
X-ORIGINAL-URL:http://presentationdemarie.org
X-WR-CALDESC:Events for Présentation de Marie
BEGIN:VEVENT
DTSTART;TZID=Europe/Paris:20180522T090000
DTEND;TZID=Europe/Paris:20180522T163000
DTSTAMP:20260424T215821
CREATED:20180422T091946Z
LAST-MODIFIED:20180422T091946Z
UID:2643-1526979600-1527006600@presentationdemarie.org
SUMMARY:Rassemblement des élèves du secteur Sud Ouest à Castres
DESCRIPTION:Cette année\, le rassemblement qui vient clôturer l’écriture du 2nd Livre ouvert est à Castres. 250 élèves du primaire sont attendus\, accompagnés d’adultes de leurs établissements et plus de 50 lycéens se mettront au service des plus jeunes du réseau. Merci à chacun pour la préparation… \nVous pouvez découvrir le Livre ouvert en allant visiter le blog : http://marierivier2018.blogspot.fr  \n
URL:http://presentationdemarie.org/evenement/rassemblement-eleves-secteur-sud-ouest-a-castres
END:VEVENT
END:VCALENDAR