BEGIN:VCALENDAR
VERSION:2.0
PRODID:-//Présentation de Marie - ECPv4.6.2//NONSGML v1.0//EN
CALSCALE:GREGORIAN
METHOD:PUBLISH
X-WR-CALNAME:Présentation de Marie
X-ORIGINAL-URL:http://presentationdemarie.org
X-WR-CALDESC:Events for Présentation de Marie
BEGIN:VEVENT
DTSTART;TZID=Europe/Paris:20180614T080000
DTEND;TZID=Europe/Paris:20180615T170000
DTSTAMP:20260424T123348
CREATED:20180611T194457Z
LAST-MODIFIED:20180611T194457Z
UID:2979-1528963200-1529082000@presentationdemarie.org
SUMMARY:Pèlerinage à Lourdes
DESCRIPTION:Sr Catherine accompagnera le pèlerinage à Lourdes des élèves de l’école de l’Immaculée Conception de Toulouse. 36 élèves du primaire dont 15 feront leur baptême\, ce samedi 16 juin. \n
URL:http://presentationdemarie.org/evenement/pelerinage-a-lourdes
CATEGORIES:Animation
END:VEVENT
END:VCALENDAR