BEGIN:VCALENDAR
VERSION:2.0
PRODID:-//Présentation de Marie - ECPv4.6.2//NONSGML v1.0//EN
CALSCALE:GREGORIAN
METHOD:PUBLISH
X-WR-CALNAME:Présentation de Marie
X-ORIGINAL-URL:http://presentationdemarie.org
X-WR-CALDESC:Events for Présentation de Marie
BEGIN:VEVENT
DTSTART;VALUE=DATE:20180110
DTEND;VALUE=DATE:20180113
DTSTAMP:20260425T202951
CREATED:20170713T084152Z
LAST-MODIFIED:20170803T142028Z
UID:338-1515542400-1515801599@presentationdemarie.org
SUMMARY:La pédagogie coopérative dans les apprentissages avec Jim Howden\, niveau 2
DESCRIPTION:Dans le cadre de nos différentes ctons menées ces dernières années en pédagogie coopérative\, nous recommençons un cycle avec la pédagogie coopérative selon Jim Howden. Ce stage fait suite au stage niveau 1. \n
URL:http://presentationdemarie.org/evenement/pedagogie-cooperative-apprentissages-jim-howden-niveau-2
LOCATION:38 avenue Notre Dame\, Bourg Saint Andéol\, Maison mère\, 07700\, France
CATEGORIES:Formation
END:VEVENT
END:VCALENDAR