BEGIN:VCALENDAR
VERSION:2.0
PRODID:-//Présentation de Marie - ECPv4.6.2//NONSGML v1.0//EN
CALSCALE:GREGORIAN
METHOD:PUBLISH
X-WR-CALNAME:Présentation de Marie
X-ORIGINAL-URL:http://presentationdemarie.org
X-WR-CALDESC:Events for Présentation de Marie
BEGIN:VEVENT
DTSTART;TZID=Europe/Paris:20190126T080000
DTEND;TZID=Europe/Paris:20190203T170000
DTSTAMP:20260421T163252
CREATED:20190126T213953Z
LAST-MODIFIED:20190126T213953Z
UID:4276-1548489600-1549213200@presentationdemarie.org
SUMMARY:@Neuvaine 2019 pour la Fête de Marie Rivier\, femme passionnée.
DESCRIPTION:En communion avec toutes les soeurs à travers le monde et les nombreux collaborateurs\, et les membres des fraternités\, une @neuvaine est offerte pour toujours mieux vivre de la grâce de notre baptême\, de notre consécration en regardant Marie Rivier. \n
URL:http://presentationdemarie.org/evenement/neuvaine-2019-fete-de-marie-rivier-femme-passionnee
CATEGORIES:Animation
END:VEVENT
END:VCALENDAR