BEGIN:VCALENDAR
VERSION:2.0
PRODID:-//Présentation de Marie - ECPv4.6.2//NONSGML v1.0//EN
CALSCALE:GREGORIAN
METHOD:PUBLISH
X-WR-CALNAME:Présentation de Marie
X-ORIGINAL-URL:http://presentationdemarie.org
X-WR-CALDESC:Events for Présentation de Marie
BEGIN:VEVENT
DTSTART;VALUE=DATE:20180304
DTEND;VALUE=DATE:20180305
DTSTAMP:20260425T124328
CREATED:20180224T131254Z
LAST-MODIFIED:20180224T133532Z
UID:2251-1520121600-1520207999@presentationdemarie.org
SUMMARY:Méditation pour chaque dimanche de Carême
DESCRIPTION:Chaque dimanche de Carême\, une méditation est proposée à partir de l’Evangile du jour. Ensemble\, prenons la route qui mène à Pâques. \n
URL:http://presentationdemarie.org/evenement/meditation-dimanche-de-careme
END:VEVENT
END:VCALENDAR