BEGIN:VCALENDAR
VERSION:2.0
PRODID:-//Présentation de Marie - ECPv4.6.2//NONSGML v1.0//EN
CALSCALE:GREGORIAN
METHOD:PUBLISH
X-WR-CALNAME:Présentation de Marie
X-ORIGINAL-URL:http://presentationdemarie.org
X-WR-CALDESC:Events for Présentation de Marie
BEGIN:VEVENT
DTSTART;VALUE=DATE:20180505
DTEND;VALUE=DATE:20180506
DTSTAMP:20260425T024054
CREATED:20180422T095437Z
LAST-MODIFIED:20180422T095437Z
UID:2662-1525478400-1525564799@presentationdemarie.org
SUMMARY:Jubilés des sœurs de la Présentation de Marie : 50\, 60\, 65\, 70 ans de Vie religieuse !
DESCRIPTION:Nous confions à votre prière nos sœurs jubilaires que nous fêterons en famille religieuse. C’est toujours une joie de rendre grâce au Seigneur pour ces vies appelées\, où chacune a su dire un OUI généreux. \nLa fidélité du Seigneur est de toujours !\nHeureux serez-vous d’entendre et de répondre à l’appel du Seigneur à tout quitter pour Le suivre. \n
URL:http://presentationdemarie.org/evenement/jubiles-soeurs-de-presentation-de-marie-50-60-65-70-ans-de-vie-religieuse
LOCATION:38 avenue Notre Dame\, Bourg Saint Andéol\, Maison mère\, 07700\, France
CATEGORIES:Vie des soeurs
END:VEVENT
END:VCALENDAR