BEGIN:VCALENDAR
VERSION:2.0
PRODID:-//Présentation de Marie - ECPv4.6.2//NONSGML v1.0//EN
CALSCALE:GREGORIAN
METHOD:PUBLISH
X-WR-CALNAME:Présentation de Marie
X-ORIGINAL-URL:http://presentationdemarie.org
X-WR-CALDESC:Events for Présentation de Marie
BEGIN:VEVENT
DTSTART;TZID=Europe/Paris:20241009T090000
DTEND;TZID=Europe/Paris:20241009T160000
DTSTAMP:20260420T203221
CREATED:20240312T085429Z
LAST-MODIFIED:20240312T085429Z
UID:9658-1728464400-1728489600@presentationdemarie.org
SUMMARY:Journée entrants Massif Central
DESCRIPTION:
URL:http://presentationdemarie.org/evenement/journee-entrants-massif-central
LOCATION:7 place du valla - BP 27\, Brioude\, 43101\, France
END:VEVENT
END:VCALENDAR