BEGIN:VCALENDAR
VERSION:2.0
PRODID:-//Présentation de Marie - ECPv4.6.2//NONSGML v1.0//EN
CALSCALE:GREGORIAN
METHOD:PUBLISH
X-WR-CALNAME:Présentation de Marie
X-ORIGINAL-URL:http://presentationdemarie.org
X-WR-CALDESC:Events for Présentation de Marie
BEGIN:VEVENT
DTSTART;TZID=Europe/Paris:20190111T093000
DTEND;TZID=Europe/Paris:20190111T150000
DTSTAMP:20260422T080338
CREATED:20181125T204603Z
LAST-MODIFIED:20181125T204603Z
UID:3905-1547199000-1547218800@presentationdemarie.org
SUMMARY:Journée des délégués de 3èmes et de 2ndes
DESCRIPTION:Cette journée était prévue le 23 novembre. Nous espérons y retrouver les 120 élèves inscrites… pour une belle journée de rencontres\, d’échanges et de connaissances à la fois sur soi et pour mieux accueillir les autres. \n
URL:http://presentationdemarie.org/evenement/journee-delegues-de-3emes-de-2ndes
LOCATION:38 avenue Notre Dame\, Bourg Saint Andéol\, Maison mère\, 07700\, France
CATEGORIES:Animation
END:VEVENT
END:VCALENDAR