BEGIN:VCALENDAR
VERSION:2.0
PRODID:-//Présentation de Marie - ECPv4.6.2//NONSGML v1.0//EN
CALSCALE:GREGORIAN
METHOD:PUBLISH
X-WR-CALNAME:Présentation de Marie
X-ORIGINAL-URL:http://presentationdemarie.org
X-WR-CALDESC:Events for Présentation de Marie
BEGIN:VEVENT
DTSTART;TZID=Europe/Paris:20190206T090000
DTEND;TZID=Europe/Paris:20190207T163000
DTSTAMP:20260421T131651
CREATED:20181125T210027Z
LAST-MODIFIED:20181125T210027Z
UID:3913-1549443600-1549557000@presentationdemarie.org
SUMMARY:Formation " Etre enseignant\, personnel d'éducation\, administratif\, de service de santé dans un établissement de la Présentation de Marie." session 2
DESCRIPTION:Cette session est la 2nde partie de la session organisée en novembre 2018. \n
URL:http://presentationdemarie.org/evenement/formation-etre-enseignant-personnel-deducation-administratif-de-service-de-sante-etablissement-de-presentation-de-marie-session-2
LOCATION:38 avenue Notre Dame\, Bourg Saint Andéol\, Maison mère\, 07700\, France
CATEGORIES:Formation
END:VEVENT
END:VCALENDAR