BEGIN:VCALENDAR
VERSION:2.0
PRODID:-//Présentation de Marie - ECPv4.6.2//NONSGML v1.0//EN
CALSCALE:GREGORIAN
METHOD:PUBLISH
X-WR-CALNAME:Présentation de Marie
X-ORIGINAL-URL:http://presentationdemarie.org
X-WR-CALDESC:Events for Présentation de Marie
BEGIN:VEVENT
DTSTART;TZID=Europe/Paris:20190114T090000
DTEND;TZID=Europe/Paris:20190115T163000
DTSTAMP:20260422T063021
CREATED:20181125T203309Z
LAST-MODIFIED:20190104T170218Z
UID:3896-1547456400-1547569800@presentationdemarie.org
SUMMARY:Formation "A la rencontre du réseau de la Présentation de Marie" reportée
DESCRIPTION:
URL:http://presentationdemarie.org/evenement/formation-a-rencontre-reseau-de-presentation-de-marie
LOCATION:avenue d'Hauterive\, CASTRES\, Ensemble Scolaire Notre Dame\, 81100
CATEGORIES:Formation
END:VEVENT
END:VCALENDAR