BEGIN:VCALENDAR
VERSION:2.0
PRODID:-//Présentation de Marie - ECPv4.6.2//NONSGML v1.0//EN
CALSCALE:GREGORIAN
METHOD:PUBLISH
X-WR-CALNAME:Présentation de Marie
X-ORIGINAL-URL:http://presentationdemarie.org
X-WR-CALDESC:Events for Présentation de Marie
BEGIN:VEVENT
DTSTART;TZID=Europe/Paris:20180514T090000
DTEND;TZID=Europe/Paris:20180516T163000
DTSTAMP:20260425T010255
CREATED:20180422T091510Z
LAST-MODIFIED:20180422T091510Z
UID:2641-1526288400-1526488200@presentationdemarie.org
SUMMARY:Formation à la relation dans les situations délicates.
DESCRIPTION:Cette formation est ouverte aux éducateurs\, bénévoles\, enseignants\, personnels des EHPAD du réseau de la Présentation de Marie. \n
URL:http://presentationdemarie.org/evenement/formation-a-relation-situations-delicates
LOCATION:38 avenue Notre Dame\, Bourg Saint Andéol\, Maison mère\, 07700\, France
CATEGORIES:Formation
END:VEVENT
END:VCALENDAR