BEGIN:VCALENDAR
VERSION:2.0
PRODID:-//Présentation de Marie - ECPv4.6.2//NONSGML v1.0//EN
CALSCALE:GREGORIAN
METHOD:PUBLISH
X-WR-CALNAME:Présentation de Marie
X-ORIGINAL-URL:http://presentationdemarie.org
X-WR-CALDESC:Events for Présentation de Marie
BEGIN:VEVENT
DTSTART;TZID=Europe/Paris:20181121T080000
DTEND;TZID=Europe/Paris:20181121T170000
DTSTAMP:20260422T205751
CREATED:20181011T072316Z
LAST-MODIFIED:20181011T073241Z
UID:3595-1542787200-1542819600@presentationdemarie.org
SUMMARY:FETE DE LA PRESENTATION DE MARIE
DESCRIPTION:Unis à toute la Famille de la Présentation de Marie\, nous fêtons en ce jour La présentation de la Vierge Marie au Temple. C’est aussi ce jour-là\, 21 novembre 1796\, que Marie Rivier et 4 autres compagnes fondent la Présentation de Marie. \nUn jour et deux fêtes ! Belles fêtes à chacun. \n
URL:http://presentationdemarie.org/evenement/fete-de-presentation-de-marie-2
CATEGORIES:Vie des soeurs
END:VEVENT
END:VCALENDAR