BEGIN:VCALENDAR
VERSION:2.0
PRODID:-//Présentation de Marie - ECPv4.6.2//NONSGML v1.0//EN
CALSCALE:GREGORIAN
METHOD:PUBLISH
X-WR-CALNAME:Présentation de Marie
X-ORIGINAL-URL:http://presentationdemarie.org
X-WR-CALDESC:Events for Présentation de Marie
BEGIN:VEVENT
DTSTART;TZID=Europe/Paris:20181225T093000
DTEND;TZID=Europe/Paris:20181225T103000
DTSTAMP:20260422T111603
CREATED:20181218T172528Z
LAST-MODIFIED:20181218T172658Z
UID:4118-1545730200-1545733800@presentationdemarie.org
SUMMARY:Fête de Noël
DESCRIPTION:9h30 : Messe célébrée à la chapelle des sœurs de la Présentation de Marie \n
URL:http://presentationdemarie.org/evenement/fete-de-noel
END:VEVENT
END:VCALENDAR