BEGIN:VCALENDAR
VERSION:2.0
PRODID:-//Présentation de Marie - ECPv4.6.2//NONSGML v1.0//EN
CALSCALE:GREGORIAN
METHOD:PUBLISH
X-WR-CALNAME:Présentation de Marie
X-ORIGINAL-URL:http://presentationdemarie.org
X-WR-CALDESC:Events for Présentation de Marie
BEGIN:VEVENT
DTSTART;VALUE=DATE:20180205
DTEND;VALUE=DATE:20180207
DTSTAMP:20260425T154537
CREATED:20170803T142305Z
LAST-MODIFIED:20170803T142305Z
UID:642-1517788800-1517961599@presentationdemarie.org
SUMMARY:Etre enseignant\, personnel d’éducation\, administratif\, de service dans un établissement de la Présentation de Marie. session 2
DESCRIPTION:
URL:http://presentationdemarie.org/evenement/etre-enseignant-personnel-deducation-administratif-de-service-etablissement-de-presentation-de-marie-session-2
LOCATION:38 avenue Notre Dame\, Bourg Saint Andéol\, Maison mère\, 07700\, France
CATEGORIES:Formation
END:VEVENT
END:VCALENDAR