BEGIN:VCALENDAR
VERSION:2.0
PRODID:-//Présentation de Marie - ECPv4.6.2//NONSGML v1.0//EN
CALSCALE:GREGORIAN
METHOD:PUBLISH
X-WR-CALNAME:Présentation de Marie
X-ORIGINAL-URL:http://presentationdemarie.org
X-WR-CALDESC:Events for Présentation de Marie
BEGIN:VEVENT
DTSTART;TZID=Europe/Paris:20210407T090000
DTEND;TZID=Europe/Paris:20210407T120000
DTSTAMP:20260423T002056
CREATED:20201215T094643Z
LAST-MODIFIED:20201215T094643Z
UID:7320-1617786000-1617796800@presentationdemarie.org
SUMMARY:Éducation Affective Relationnelle et Sexuelle. (EARS)
DESCRIPTION:Deuxième journée \n
URL:http://presentationdemarie.org/evenement/education-affective-relationnelle-sexuelle-ears-2
LOCATION:avenue d'Hauterive\, CASTRES\, Ensemble Scolaire Notre Dame\, 81100
END:VEVENT
END:VCALENDAR