BEGIN:VCALENDAR
VERSION:2.0
PRODID:-//Présentation de Marie - ECPv4.6.2//NONSGML v1.0//EN
CALSCALE:GREGORIAN
METHOD:PUBLISH
X-WR-CALNAME:Présentation de Marie
X-ORIGINAL-URL:http://presentationdemarie.org
X-WR-CALDESC:Events for Présentation de Marie
BEGIN:VEVENT
DTSTART;TZID=Europe/Paris:20180627T093000
DTEND;TZID=Europe/Paris:20180627T120000
DTSTAMP:20260424T091149
CREATED:20180611T200356Z
LAST-MODIFIED:20180611T200435Z
UID:2992-1530091800-1530100800@presentationdemarie.org
SUMMARY:Association Marie Rivier Solidarité
DESCRIPTION:L’Association Marie Rivier Solidarité se réunira pour faire le bilan de l’année et des projets réalisés grâce à la générosité des membres de la grande famille de la Présentation de Marie et tous les amis de Marie Rivier. Nous prendrons le temps de regarder les premières demandes de soutien pour 2018 – 2019. \n
URL:http://presentationdemarie.org/evenement/association-marie-rivier-solidarite
LOCATION:38 avenue Notre Dame\, Bourg Saint Andéol\, Maison mère\, 07700\, France
CATEGORIES:AMRS
END:VEVENT
END:VCALENDAR