BEGIN:VCALENDAR
VERSION:2.0
PRODID:-//Présentation de Marie - ECPv4.6.2//NONSGML v1.0//EN
CALSCALE:GREGORIAN
METHOD:PUBLISH
X-WR-CALNAME:Présentation de Marie
X-ORIGINAL-URL:http://presentationdemarie.org
X-WR-CALDESC:Events for Présentation de Marie
BEGIN:VEVENT
DTSTART;TZID=Europe/Paris:20180427T160000
DTEND;TZID=Europe/Paris:20180427T190000
DTSTAMP:20260425T040417
CREATED:20180422T091031Z
LAST-MODIFIED:20180422T091031Z
UID:2637-1524844800-1524855600@presentationdemarie.org
SUMMARY:Anniversaire : 160 ans de l'école Marie Rivier de Fargues St Hilaire
DESCRIPTION:Avec joie\, les membres du conseil de tutelle se joindront à cette fête anniversaire préparée tout au long de l’année par la communauté éducative. \n
URL:http://presentationdemarie.org/evenement/anniversaire-160-ans-de-lecole-marie-rivier-de-fargues-st-hilaire
END:VEVENT
END:VCALENDAR