BEGIN:VCALENDAR
VERSION:2.0
PRODID:-//Présentation de Marie - ECPv4.6.2//NONSGML v1.0//EN
CALSCALE:GREGORIAN
METHOD:PUBLISH
X-WR-CALNAME:Présentation de Marie
X-ORIGINAL-URL:http://presentationdemarie.org
X-WR-CALDESC:Events for Présentation de Marie
BEGIN:VEVENT
DTSTART;TZID=Europe/Paris:20181010T090000
DTEND;TZID=Europe/Paris:20181010T163000
DTSTAMP:20260423T045448
CREATED:20180913T230306Z
LAST-MODIFIED:20180913T230329Z
UID:3408-1539162000-1539189000@presentationdemarie.org
SUMMARY:Accueil des nouveaux du Secteur de Castres
DESCRIPTION:
URL:http://presentationdemarie.org/evenement/accueil-nouveaux-secteur-de-castres
END:VEVENT
END:VCALENDAR