BEGIN:VCALENDAR
VERSION:2.0
PRODID:-//Présentation de Marie - ECPv4.6.2//NONSGML v1.0//EN
CALSCALE:GREGORIAN
METHOD:PUBLISH
X-WR-CALNAME:Présentation de Marie
X-ORIGINAL-URL:http://presentationdemarie.org
X-WR-CALDESC:Events for Présentation de Marie
BEGIN:VEVENT
DTSTART;TZID=Europe/Paris:20180926T090000
DTEND;TZID=Europe/Paris:20180926T163000
DTSTAMP:20260423T214835
CREATED:20180913T224515Z
LAST-MODIFIED:20180913T224515Z
UID:3382-1537952400-1537979400@presentationdemarie.org
SUMMARY:Accueil des nouveaux enseignants et des personnels OGEC
DESCRIPTION:Une journée de rencontre et d’échanges autour du sens de la tutelle\, de l’esprit de la Présentation de Marie et présentation des formations au service de chacun. \n
URL:http://presentationdemarie.org/evenement/accueil-nouveaux-enseignants-personnels-ogec
END:VEVENT
END:VCALENDAR