BEGIN:VCALENDAR
VERSION:2.0
PRODID:-//Présentation de Marie - ECPv4.6.2//NONSGML v1.0//EN
CALSCALE:GREGORIAN
METHOD:PUBLISH
X-WR-CALNAME:Présentation de Marie
X-ORIGINAL-URL:http://presentationdemarie.org
X-WR-CALDESC:Events for Présentation de Marie
BEGIN:VEVENT
DTSTART;TZID=Europe/Paris:20180916T140000
DTEND;TZID=Europe/Paris:20180916T170000
DTSTAMP:20260424T073155
CREATED:20180913T223251Z
LAST-MODIFIED:20180913T223251Z
UID:3367-1537106400-1537117200@presentationdemarie.org
SUMMARY:Accueil pour les Journées du patrimoine
DESCRIPTION:Dans le cadre des journées du patrimoine\, nous proposons des visites du couvent de la Présentation de Marie\, uniquement le dimanche 16 septembre\, à 14h\, 15h et 16h ( dernière visite).\nBienvenue à vous tous ! \n
URL:http://presentationdemarie.org/evenement/accueil-journees-patrimoine
CATEGORIES:Animation
END:VEVENT
END:VCALENDAR