BEGIN:VCALENDAR
VERSION:2.0
PRODID:-//Présentation de Marie - ECPv4.6.2//NONSGML v1.0//EN
CALSCALE:GREGORIAN
METHOD:PUBLISH
X-WR-CALNAME:Présentation de Marie
X-ORIGINAL-URL:http://presentationdemarie.org
X-WR-CALDESC:Events for Présentation de Marie
BEGIN:VEVENT
DTSTART;TZID=Europe/Paris:20180608T080000
DTEND;TZID=Europe/Paris:20180608T170000
DTSTAMP:20260424T153515
CREATED:20180422T094635Z
LAST-MODIFIED:20180422T094641Z
UID:2658-1528444800-1528477200@presentationdemarie.org
SUMMARY:Accueil à la Maison Mère de 175 japonnais venant d'un établissement de la congrégation
DESCRIPTION:Heureux sommes nous de pouvoir accueillir nos petits frères et soeurs du Japon qui portent dans leur coeur Marie Rivier et les valeurs qu’elle a partagé à ses soeurs et qui aujourd’hui se transmettent par les collaborateurs laïcs. \nCes jeunes et adultes découvrent ainsi nos lieux sources. Prions pour eux.. et rendons grâce pour chacun. \n
URL:http://presentationdemarie.org/evenement/accueil-a-maison-mere-de-175-japonnais-venant-dun-etablissement-de-congregation
CATEGORIES:Animation
END:VEVENT
END:VCALENDAR