BEGIN:VCALENDAR
VERSION:2.0
PRODID:-//Présentation de Marie - ECPv4.6.2//NONSGML v1.0//EN
CALSCALE:GREGORIAN
METHOD:PUBLISH
X-WR-CALNAME:Présentation de Marie
X-ORIGINAL-URL:http://presentationdemarie.org
X-WR-CALDESC:Events for Présentation de Marie
BEGIN:VEVENT
DTSTART;VALUE=DATE:20171116
DTEND;VALUE=DATE:20171119
DTSTAMP:20260426T034429
CREATED:20171101T162712Z
LAST-MODIFIED:20171110T143031Z
UID:1041-1510790400-1511049599@presentationdemarie.org
SUMMARY:3 jours de Retraite : TRIDUUM pour la Fête de la Présentation de Marie
DESCRIPTION:Les sœurs de la maison mère sont invitées à vivre un temps de retraite spirituelle avant la fête de la Présentation de Marie. Un prédicateur vient sur trois jours. Deux conférences par jour sont prévues. \n
URL:http://presentationdemarie.org/evenement/3-jours-de-retraite-triduum-fete-de-presentation-de-marie
LOCATION:38 avenue Notre Dame\, Bourg Saint Andéol\, Maison mère\, 07700\, France
CATEGORIES:Vie des soeurs
END:VEVENT
END:VCALENDAR