BEGIN:VCALENDAR
VERSION:2.0
PRODID:-//Présentation de Marie - ECPv4.6.2//NONSGML v1.0//EN
CALSCALE:GREGORIAN
METHOD:PUBLISH
X-WR-CALNAME:Présentation de Marie
X-ORIGINAL-URL:http://presentationdemarie.org
X-WR-CALDESC:Events for Présentation de Marie
BEGIN:VEVENT
DTSTART;TZID=Europe/Paris:20180528T080000
DTEND;TZID=Europe/Paris:20180528T170000
DTSTAMP:20260424T185029
CREATED:20180422T093204Z
LAST-MODIFIED:20180422T093204Z
UID:2653-1527494400-1527526800@presentationdemarie.org
SUMMARY:2nde Journée de découverte des lieux sources pour les 4èmes du Collège St Louis\, Orange (84)
DESCRIPTION:Les élèves de 4èmes feront une journée aux sources de la congrégation en allant visiter : \n\nle village natal de Marie Rivier : Montpezat sous Bauzon\nle lieu de fondation de la communauté de la Présentation de Marie : Thueyts\n\nLe thème de la journée sera sur  » L’engagement’ avec le témoignage de Benoit qui sera ordonné en juin.\nUne manière aussi de vivre à l’écoute des jeunes et de leurs questions … discernement\, vocation ? \nEn co-organisation avec l’APS de St Louis : Patricia Martin. \n
URL:http://presentationdemarie.org/evenement/2nde-journee-de-decouverte-lieux-sources-4emes-college-st-louis-orange-84
CATEGORIES:Animation
END:VEVENT
END:VCALENDAR