BEGIN:VCALENDAR
VERSION:2.0
PRODID:-//Présentation de Marie - ECPv4.6.2//NONSGML v1.0//EN
CALSCALE:GREGORIAN
METHOD:PUBLISH
X-WR-CALNAME:Présentation de Marie
X-ORIGINAL-URL:http://presentationdemarie.org
X-WR-CALDESC:Events for Présentation de Marie
BEGIN:VEVENT
DTSTART;TZID=Europe/Paris:20181019T090000
DTEND;TZID=Europe/Paris:20181020T173000
DTSTAMP:20260423T014032
CREATED:20180913T225949Z
LAST-MODIFIED:20180913T225949Z
UID:3406-1539939600-1540056600@presentationdemarie.org
SUMMARY:2nd Colloque " le défi de la Rencontre : Accueillir l'autre dans tous ses dimensions;"
DESCRIPTION:
URL:http://presentationdemarie.org/evenement/2nd-colloque-defi-de-rencontre-accueillir-lautre-dimensions
END:VEVENT
END:VCALENDAR